BEGIN:VCALENDAR
VERSION:2.0
PRODID:icalendar-ruby
CALSCALE:GREGORIAN
METHOD:PUBLISH
BEGIN:VEVENT
DTSTAMP:20260420T212355Z
UID:148-1449648@belleviewbaptist.org
DTSTART:20260729T230000Z
DTEND:20260730T000000Z
CLASS:PUBLIC
CREATED:20260420T170023
DESCRIPTION:Note:  No evening Bible study on Weds. April 8th. (Spring Brea
 k)
LAST-MODIFIED:20260420T170023
LOCATION:Sanctuary
SUMMARY:Adults' Bible Study
URL;VALUE=URI:https://www.belleviewbaptist.org/events/adults-bible-study/20
 26-07-29
ATTACH;FILENAME=Weds_Adults.jpg;FMTTYPE=image/jpeg:https://dq5pwpg1q8ru0.cl
 oudfront.net/2026/03/31/17/29/45/7bbe9045-3b90-49d3-a826-e26c4aa7319d/Weds
 _Adults.jpg
END:VEVENT
END:VCALENDAR
